BEGIN:VCALENDAR
VERSION:2.0
PRODID:-//hacksw/handcal//NONSGML v1.0//EN
BEGIN:VEVENT
SUMMARY:Stage de Printemps
UID:4f855e6e-d389-4bd4-8726-7cf8bbc940d8
DTSTART:20260420T130000Z
DTEND:20260420T160000Z
LOCATION:Localisation Gymnase Aubry (excepte le mardi aux Cottages-1 rue des parigots) 92500 RUEIL-MALMAISON
CATEGORIES:Stage
STATUS:
URL;VALUE=URI:https://www.suresnes-volleyball.fr/evenements/2026/04/20/stage-de-printemps-2439337
END:VEVENT
END:VCALENDAR
