BEGIN:VCALENDAR
VERSION:2.0
PRODID:-//hacksw/handcal//NONSGML v1.0//EN
BEGIN:VEVENT
SUMMARY:Stage de Printemps
UID:bc0bfedc-2637-4563-81b2-8ca48a4fd6d8
DTSTART:20260421T130000Z
DTEND:20260421T160000Z
LOCATION:Localisation Gymnase Aubry (excepte le mardi aux Cottages-1 rue des parigots) 92500 RUEIL-MALMAISON
CATEGORIES:Stage
STATUS:
URL;VALUE=URI:https://www.suresnes-volleyball.fr/evenements/2026/04/21/stage-de-printemps-2439342
END:VEVENT
END:VCALENDAR
