BEGIN:VCALENDAR
VERSION:2.0
PRODID:-//hacksw/handcal//NONSGML v1.0//EN
BEGIN:VEVENT
SUMMARY:Stage de Printemps
UID:3e478629-1838-4192-998b-3ea80e4c8eed
DTSTART:20260422T130000Z
DTEND:20260422T160000Z
LOCATION:Localisation Gymnase Aubry (excepte le mardi aux Cottages-1 rue des parigots) 92500 RUEIL-MALMAISON
CATEGORIES:Stage
STATUS:
URL;VALUE=URI:https://www.suresnes-volleyball.fr/evenements/2026/04/22/stage-de-printemps-2439341
END:VEVENT
END:VCALENDAR
