BEGIN:VCALENDAR
VERSION:2.0
PRODID:-//hacksw/handcal//NONSGML v1.0//EN
BEGIN:VEVENT
SUMMARY:Stage de Printemps
UID:69c9eb23-b55f-470f-882f-2cda8966c36b
DTSTART:20260423T130000Z
DTEND:20260423T160000Z
LOCATION:Localisation Gymnase Aubry (excepte le mardi aux Cottages-1 rue des parigots) 92500 RUEIL-MALMAISON
CATEGORIES:Stage
STATUS:
URL;VALUE=URI:https://www.suresnes-volleyball.fr/evenements/2026/04/23/stage-de-printemps-2439339
END:VEVENT
END:VCALENDAR
