BEGIN:VCALENDAR
VERSION:2.0
PRODID:-//hacksw/handcal//NONSGML v1.0//EN
BEGIN:VEVENT
SUMMARY:Stage de Printemps
UID:9a0f1a10-ab89-444a-8849-94bc0796a5a7
DTSTART:20260424T130000Z
DTEND:20260424T160000Z
LOCATION:Localisation Gymnase Aubry (excepte le mardi aux Cottages-1 rue des parigots) 92500 RUEIL-MALMAISON
CATEGORIES:Stage
STATUS:
URL;VALUE=URI:https://www.suresnes-volleyball.fr/evenements/2026/04/24/stage-de-printemps-2439340
END:VEVENT
END:VCALENDAR
